BEGIN:VCALENDAR
VERSION:2.0
PRODID:-//Halberstädter Schwimmverein - ECPv6.5.0.1//NONSGML v1.0//EN
CALSCALE:GREGORIAN
METHOD:PUBLISH
X-WR-CALNAME:Halberstädter Schwimmverein
X-ORIGINAL-URL:https://www.halberstaedter-sv.de
X-WR-CALDESC:Veranstaltungen für Halberstädter Schwimmverein
REFRESH-INTERVAL;VALUE=DURATION:PT1H
X-Robots-Tag:noindex
X-PUBLISHED-TTL:PT1H
BEGIN:VTIMEZONE
TZID:Europe/Berlin
BEGIN:DAYLIGHT
TZOFFSETFROM:+0100
TZOFFSETTO:+0200
TZNAME:CEST
DTSTART:20250330T010000
END:DAYLIGHT
BEGIN:STANDARD
TZOFFSETFROM:+0200
TZOFFSETTO:+0100
TZNAME:CET
DTSTART:20251026T010000
END:STANDARD
END:VTIMEZONE
BEGIN:VEVENT
DTSTART;VALUE=DATE:20250301
DTEND;VALUE=DATE:20250302
DTSTAMP:20260425T232034
CREATED:20250222T150230Z
LAST-MODIFIED:20250222T150230Z
UID:5096-1740787200-1740873599@www.halberstaedter-sv.de
SUMMARY:Wettkampf Goslarer Adler Masters
DESCRIPTION:
URL:https://www.halberstaedter-sv.de/event/wettkampf-goslarer-adler-masters/
CATEGORIES:Master
END:VEVENT
BEGIN:VEVENT
DTSTART;VALUE=DATE:20250302
DTEND;VALUE=DATE:20250303
DTSTAMP:20260425T232034
CREATED:20250222T150349Z
LAST-MODIFIED:20250222T150515Z
UID:5098-1740873600-1740959999@www.halberstaedter-sv.de
SUMMARY:Wettkampf Goslarer Adler
DESCRIPTION:
URL:https://www.halberstaedter-sv.de/event/wettkampf-goslarer-adler/
CATEGORIES:Kinder
END:VEVENT
BEGIN:VEVENT
DTSTART;VALUE=DATE:20250314
DTEND;VALUE=DATE:20250317
DTSTAMP:20260425T232034
CREATED:20250222T150734Z
LAST-MODIFIED:20250222T150734Z
UID:5104-1741910400-1742169599@www.halberstaedter-sv.de
SUMMARY:DM Masters Lange Strecke Wolfsburg
DESCRIPTION:
URL:https://www.halberstaedter-sv.de/event/dm-masters-lange-strecke-wolfsburg/
CATEGORIES:Master
END:VEVENT
BEGIN:VEVENT
DTSTART;VALUE=DATE:20250316
DTEND;VALUE=DATE:20250317
DTSTAMP:20260425T232034
CREATED:20250222T150453Z
LAST-MODIFIED:20250222T150453Z
UID:5100-1742083200-1742169599@www.halberstaedter-sv.de
SUMMARY:Wettkampf Wernigerode
DESCRIPTION:
URL:https://www.halberstaedter-sv.de/event/wettkampf-wernigerode/
CATEGORIES:Kinder
END:VEVENT
BEGIN:VEVENT
DTSTART;VALUE=DATE:20250322
DTEND;VALUE=DATE:20250324
DTSTAMP:20260425T232034
CREATED:20250222T150857Z
LAST-MODIFIED:20250222T150857Z
UID:5106-1742601600-1742774399@www.halberstaedter-sv.de
SUMMARY:Norddeutsche Meisterschafen Masters Braunschweig
DESCRIPTION:
URL:https://www.halberstaedter-sv.de/event/norddeutsche-meisterschafen-masters-braunschweig/
CATEGORIES:Master
END:VEVENT
BEGIN:VEVENT
DTSTART;VALUE=DATE:20250329
DTEND;VALUE=DATE:20250330
DTSTAMP:20260425T232034
CREATED:20250222T150553Z
LAST-MODIFIED:20250222T150553Z
UID:5102-1743206400-1743292799@www.halberstaedter-sv.de
SUMMARY:Wettkampf Burg
DESCRIPTION:
URL:https://www.halberstaedter-sv.de/event/wettkampf-burg/
CATEGORIES:Kinder
END:VEVENT
END:VCALENDAR