BEGIN:VCALENDAR
VERSION:2.0
PRODID:-//Halberstädter Schwimmverein - ECPv6.5.0.1//NONSGML v1.0//EN
CALSCALE:GREGORIAN
METHOD:PUBLISH
X-ORIGINAL-URL:https://www.halberstaedter-sv.de
X-WR-CALDESC:Veranstaltungen für Halberstädter Schwimmverein
REFRESH-INTERVAL;VALUE=DURATION:PT1H
X-Robots-Tag:noindex
X-PUBLISHED-TTL:PT1H
BEGIN:VTIMEZONE
TZID:Europe/Berlin
BEGIN:DAYLIGHT
TZOFFSETFROM:+0100
TZOFFSETTO:+0200
TZNAME:CEST
DTSTART:20250330T010000
END:DAYLIGHT
BEGIN:STANDARD
TZOFFSETFROM:+0200
TZOFFSETTO:+0100
TZNAME:CET
DTSTART:20251026T010000
END:STANDARD
END:VTIMEZONE
BEGIN:VEVENT
DTSTART;VALUE=DATE:20250503
DTEND;VALUE=DATE:20250505
DTSTAMP:20260425T214728
CREATED:20250222T152232Z
LAST-MODIFIED:20250222T152232Z
UID:5114-1746230400-1746403199@www.halberstaedter-sv.de
SUMMARY:Landesmeisterschaften Magdeburg
DESCRIPTION:
URL:https://www.halberstaedter-sv.de/event/landesmeisterschaften-magdeburg/
CATEGORIES:Kinder
END:VEVENT
END:VCALENDAR