BEGIN:VCALENDAR
VERSION:2.0
PRODID:-//Halberstädter Schwimmverein - ECPv6.5.0.1//NONSGML v1.0//EN
CALSCALE:GREGORIAN
METHOD:PUBLISH
X-WR-CALNAME:Halberstädter Schwimmverein
X-ORIGINAL-URL:https://www.halberstaedter-sv.de
X-WR-CALDESC:Veranstaltungen für Halberstädter Schwimmverein
REFRESH-INTERVAL;VALUE=DURATION:PT1H
X-Robots-Tag:noindex
X-PUBLISHED-TTL:PT1H
BEGIN:VTIMEZONE
TZID:Europe/Berlin
BEGIN:DAYLIGHT
TZOFFSETFROM:+0100
TZOFFSETTO:+0200
TZNAME:CEST
DTSTART:20250330T010000
END:DAYLIGHT
BEGIN:STANDARD
TZOFFSETFROM:+0200
TZOFFSETTO:+0100
TZNAME:CET
DTSTART:20251026T010000
END:STANDARD
END:VTIMEZONE
BEGIN:VEVENT
DTSTART;VALUE=DATE:20250426
DTEND;VALUE=DATE:20250427
DTSTAMP:20260425T232540
CREATED:20250222T150947Z
LAST-MODIFIED:20250222T150947Z
UID:5108-1745625600-1745711999@www.halberstaedter-sv.de
SUMMARY:Wettkampf Stendal
DESCRIPTION:
URL:https://www.halberstaedter-sv.de/event/wettkampf-stendal/
CATEGORIES:Kinder
END:VEVENT
END:VCALENDAR